BEGIN:VCALENDAR
VERSION:2.0
PRODID:-//Circular Systemic Solutions - ECPv6.15.14//NONSGML v1.0//EN
CALSCALE:GREGORIAN
METHOD:PUBLISH
X-WR-CALNAME:Circular Systemic Solutions
X-ORIGINAL-URL:https://circsyst.eu
X-WR-CALDESC:Events for Circular Systemic Solutions
REFRESH-INTERVAL;VALUE=DURATION:PT1H
X-Robots-Tag:noindex
X-PUBLISHED-TTL:PT1H
BEGIN:VTIMEZONE
TZID:Europe/Budapest
BEGIN:DAYLIGHT
TZOFFSETFROM:+0100
TZOFFSETTO:+0200
TZNAME:CEST
DTSTART:20240331T010000
END:DAYLIGHT
BEGIN:STANDARD
TZOFFSETFROM:+0200
TZOFFSETTO:+0100
TZNAME:CET
DTSTART:20241027T010000
END:STANDARD
BEGIN:DAYLIGHT
TZOFFSETFROM:+0100
TZOFFSETTO:+0200
TZNAME:CEST
DTSTART:20250330T010000
END:DAYLIGHT
BEGIN:STANDARD
TZOFFSETFROM:+0200
TZOFFSETTO:+0100
TZNAME:CET
DTSTART:20251026T010000
END:STANDARD
BEGIN:DAYLIGHT
TZOFFSETFROM:+0100
TZOFFSETTO:+0200
TZNAME:CEST
DTSTART:20260329T010000
END:DAYLIGHT
BEGIN:STANDARD
TZOFFSETFROM:+0200
TZOFFSETTO:+0100
TZNAME:CET
DTSTART:20261025T010000
END:STANDARD
END:VTIMEZONE
BEGIN:VEVENT
DTSTART;VALUE=DATE:20250916
DTEND;VALUE=DATE:20250919
DTSTAMP:20260420T184237
CREATED:20250909T120501Z
LAST-MODIFIED:20250909T120858Z
UID:831-1757980800-1758239999@circsyst.eu
SUMMARY:Central European Plastics Meeting 2025
DESCRIPTION:The CEPM is where Europe’s Plastics and Recycling Industry Meets to Make Deals\, Debate Bold Ideas & Party on a Boat on the Danube. \n3 days of structured B2B matchmaking\, radical conference talks\, and laid-back networking – all in the heart of Central Europe\, in Budapest. \nFor the detailed programme and to take part in the business meetings\, please visit the event website: \nCentral European Plastics Meeting 2025 – Home
URL:https://circsyst.eu/event/central-european-plastics-meeting-2025/
LOCATION:EIFFEL ART STUDIOS BUDAPEST\, 30 Kőbányai út\,\, Budapest\, 1101\, Hungary
ATTACH;FMTTYPE=image/png:https://circsyst.eu/wp-content/uploads/2025/09/kepernyokep-2025-09-09-135102.png
END:VEVENT
BEGIN:VEVENT
DTSTART;TZID=Europe/Budapest:20250923T110000
DTEND;TZID=Europe/Budapest:20250923T120000
DTSTAMP:20260420T184237
CREATED:20250909T084830Z
LAST-MODIFIED:20250909T114007Z
UID:827-1758625200-1758628800@circsyst.eu
SUMMARY:Empowering Circular Change
DESCRIPTION:Based on feedback from CCRI Pilot territories and refined to meet local needs\, the new version of the CCRI Methodology helps identify challenges and opportunities\, engage stakeholders\, and unlock local value through circular systemic approaches. \nThis webinar will showcase key improvements and offer a platform for participants to exchange insights and experiences. Save the date in your calendar and stay tuned for more information in the coming weeks.
URL:https://circsyst.eu/event/empowering-circular-change/
CATEGORIES:Circular Economy Events in Europe
ATTACH;FMTTYPE=image/png:https://circsyst.eu/wp-content/uploads/2025/09/kepernyokep-2025-09-09-132615.png
END:VEVENT
END:VCALENDAR