BEGIN:VCALENDAR
VERSION:2.0
PRODID:-//Circular Systemic Solutions - ECPv6.15.14//NONSGML v1.0//EN
CALSCALE:GREGORIAN
METHOD:PUBLISH
X-ORIGINAL-URL:https://circsyst.eu
X-WR-CALDESC:Events for Circular Systemic Solutions
REFRESH-INTERVAL;VALUE=DURATION:PT1H
X-Robots-Tag:noindex
X-PUBLISHED-TTL:PT1H
BEGIN:VTIMEZONE
TZID:Europe/Budapest
BEGIN:DAYLIGHT
TZOFFSETFROM:+0100
TZOFFSETTO:+0200
TZNAME:CEST
DTSTART:20240331T010000
END:DAYLIGHT
BEGIN:STANDARD
TZOFFSETFROM:+0200
TZOFFSETTO:+0100
TZNAME:CET
DTSTART:20241027T010000
END:STANDARD
BEGIN:DAYLIGHT
TZOFFSETFROM:+0100
TZOFFSETTO:+0200
TZNAME:CEST
DTSTART:20250330T010000
END:DAYLIGHT
BEGIN:STANDARD
TZOFFSETFROM:+0200
TZOFFSETTO:+0100
TZNAME:CET
DTSTART:20251026T010000
END:STANDARD
BEGIN:DAYLIGHT
TZOFFSETFROM:+0100
TZOFFSETTO:+0200
TZNAME:CEST
DTSTART:20260329T010000
END:DAYLIGHT
BEGIN:STANDARD
TZOFFSETFROM:+0200
TZOFFSETTO:+0100
TZNAME:CET
DTSTART:20261025T010000
END:STANDARD
END:VTIMEZONE
BEGIN:VEVENT
DTSTART;VALUE=DATE:20250609
DTEND;VALUE=DATE:20250613
DTSTAMP:20260420T224947
CREATED:20250110T075017Z
LAST-MODIFIED:20250815T075549Z
UID:358-1749427200-1749772799@circsyst.eu
SUMMARY:European Biomass Conference & Exhibition
DESCRIPTION:The 33rd European Biomass Conference & Exhibition will be organized with the aim of growing awareness of the impacts of society on the environment\, and government policy towards biomass as renewable resource. The event will gather global community of researchers and experts in the field of biomass sector.
URL:https://circsyst.eu/event/european-biomass-conference-exhibition/
CATEGORIES:Circular Economy Events in Europe
ATTACH;FMTTYPE=image/jpeg:https://circsyst.eu/wp-content/uploads/2025/01/valencia-lanscape.jpg
END:VEVENT
BEGIN:VEVENT
DTSTART;VALUE=DATE:20250610
DTEND;VALUE=DATE:20250613
DTSTAMP:20260420T224947
CREATED:20250110T074943Z
LAST-MODIFIED:20250815T075549Z
UID:361-1749513600-1749772799@circsyst.eu
SUMMARY:European Sustainable Energy Week
DESCRIPTION:The European Sustainable Energy Week (EUSEW) Policy Conference the main important event in Europe in the field of renewables and efficient energy use. The 19th edition of the Policy Conference will take place in Brussels and also online on 10-12 June 2025. The main aim is to gather policymakers\, innovators and energy stakeholders\, in order to discuss innovations and the future of sustainable energy in Europe.
URL:https://circsyst.eu/event/european-sustainable-energy-week/
CATEGORIES:Circular Economy Events in Europe
ATTACH;FMTTYPE=image/webp:https://circsyst.eu/wp-content/uploads/2025/01/policy_main_banner.jpg.webp
END:VEVENT
BEGIN:VEVENT
DTSTART;VALUE=DATE:20250617
DTEND;VALUE=DATE:20250620
DTSTAMP:20260420T224947
CREATED:20250513T045334Z
LAST-MODIFIED:20250821T105346Z
UID:590-1750118400-1750377599@circsyst.eu
SUMMARY:CircSyst General Assembly and 40th AER - Assembly of European Regions Anniversary
DESCRIPTION:CircSyst’s second General Assembly will take place 17–19 June in Maribor\, Slovenia\, alongside the 40th‑anniversary conference of the Assembly of European Regions (AER). \nThis event will focus on key European priorities such as sustainable development\, green transition\, digitization\, innovation\, entrepreneurship\, and social cohesion. It will provide a platform for knowledge exchange and partnership building\, with special attention to sharing best practices in circular economy. \nA highlight of the event will be the presentation of the Circular Cities and Regions Initiative (CCRI)\, under which Podravje was selected as one of 12 regions in Europe to receive support for implementing circular solutions. The CircSyst project\, aligned with the CCRI\, is already driving sustainable progress in the region. \nThis event aims to showcase successful circular practices and foster collaboration at both regional and European levels\, contributing to sustainable growth and increased competitiveness for local businesses. \nSet in the Podravje region\, one of CircSyst’s nine demonstrator areas and a CCRI Pilot\, the three‑day meeting will reunite all partners and deliver a first‑year progress review\, highlighting achievements\, challenges and next‑step synergies. Sessions will delve into the green transition\, the bioeconomy\, sustainable development\, digitalisation\, innovation and social cohesion. Partners will also exchange know‑how with AER members\, CCRI peers and invited industry actors\, exploring how CircSyst’s solutions can align with regional policy priorities. The event is hosted by RRA Podravje‑Maribor\, whose director chairs the AER Working Group on the Bio‑Circular Economy. \nEvent Programme \n  AER-Circsyst GeA Slovenia AGENDA_v02062025
URL:https://circsyst.eu/event/aer-general-assembly-40th-aer-anniversary/
CATEGORIES:CircSyst Project Events
ATTACH;FMTTYPE=image/jpeg:https://circsyst.eu/wp-content/uploads/2025/05/nevtelen-webhely3.jpg
END:VEVENT
END:VCALENDAR