BEGIN:VCALENDAR
VERSION:2.0
PRODID:-//Circular Systemic Solutions - ECPv6.15.14//NONSGML v1.0//EN
CALSCALE:GREGORIAN
METHOD:PUBLISH
X-WR-CALNAME:Circular Systemic Solutions
X-ORIGINAL-URL:https://circsyst.eu
X-WR-CALDESC:Events for Circular Systemic Solutions
REFRESH-INTERVAL;VALUE=DURATION:PT1H
X-Robots-Tag:noindex
X-PUBLISHED-TTL:PT1H
BEGIN:VTIMEZONE
TZID:Europe/Budapest
BEGIN:DAYLIGHT
TZOFFSETFROM:+0100
TZOFFSETTO:+0200
TZNAME:CEST
DTSTART:20240331T010000
END:DAYLIGHT
BEGIN:STANDARD
TZOFFSETFROM:+0200
TZOFFSETTO:+0100
TZNAME:CET
DTSTART:20241027T010000
END:STANDARD
BEGIN:DAYLIGHT
TZOFFSETFROM:+0100
TZOFFSETTO:+0200
TZNAME:CEST
DTSTART:20250330T010000
END:DAYLIGHT
BEGIN:STANDARD
TZOFFSETFROM:+0200
TZOFFSETTO:+0100
TZNAME:CET
DTSTART:20251026T010000
END:STANDARD
BEGIN:DAYLIGHT
TZOFFSETFROM:+0100
TZOFFSETTO:+0200
TZNAME:CEST
DTSTART:20260329T010000
END:DAYLIGHT
BEGIN:STANDARD
TZOFFSETFROM:+0200
TZOFFSETTO:+0100
TZNAME:CET
DTSTART:20261025T010000
END:STANDARD
END:VTIMEZONE
BEGIN:VEVENT
DTSTART;VALUE=DATE:20250310
DTEND;VALUE=DATE:20250313
DTSTAMP:20260421T034233
CREATED:20250110T074837Z
LAST-MODIFIED:20250815T075549Z
UID:355-1741564800-1741823999@circsyst.eu
SUMMARY:Annual Sustainability Week
DESCRIPTION:The Energy Transition Summit will be organized in the frame of Annual Sustainability Week. In 2025 the event has new fields\, including the Sustainable Supply Chain and Procurement Summit and 250 one-to-one meetings.
URL:https://circsyst.eu/event/annual-sustainability-week/
CATEGORIES:Circular Economy Events in Europe
ATTACH;FMTTYPE=image/jpeg:https://circsyst.eu/wp-content/uploads/2025/01/cso-leaders-club-1.jpg
END:VEVENT
BEGIN:VEVENT
DTSTART;VALUE=DATE:20250225
DTEND;VALUE=DATE:20250301
DTSTAMP:20260421T034233
CREATED:20241218T145805Z
LAST-MODIFIED:20250815T075549Z
UID:351-1740441600-1740787199@circsyst.eu
SUMMARY:The ESF Europe: Energy & Sustainability Forum
DESCRIPTION:ESF Europe is the only event\, dedicated to downstream decarbonisation and sustainability. Accelerates Europe’s energy transition and develops a sustainable energy future in which the refining and chemical industries continue to play a leading role. \nThe IEA has estimated to achieve net-zero emissions by 2050\, and annual global investment in clean energy will need to more than triple to around $4 trillion by 2030.
URL:https://circsyst.eu/event/the-esf-europe-energy-sustainability-forum/
CATEGORIES:Circular Economy Events in Europe
ATTACH;FMTTYPE=image/jpeg:https://circsyst.eu/wp-content/uploads/2024/12/esf-europe-madrid-6.jpg
END:VEVENT
END:VCALENDAR