BEGIN:VCALENDAR
VERSION:2.0
PRODID:-//Circular Systemic Solutions - ECPv6.15.14//NONSGML v1.0//EN
CALSCALE:GREGORIAN
METHOD:PUBLISH
X-ORIGINAL-URL:https://circsyst.eu
X-WR-CALDESC:Events for Circular Systemic Solutions
REFRESH-INTERVAL;VALUE=DURATION:PT1H
X-Robots-Tag:noindex
X-PUBLISHED-TTL:PT1H
BEGIN:VTIMEZONE
TZID:Europe/Budapest
BEGIN:DAYLIGHT
TZOFFSETFROM:+0100
TZOFFSETTO:+0200
TZNAME:CEST
DTSTART:20240331T010000
END:DAYLIGHT
BEGIN:STANDARD
TZOFFSETFROM:+0200
TZOFFSETTO:+0100
TZNAME:CET
DTSTART:20241027T010000
END:STANDARD
BEGIN:DAYLIGHT
TZOFFSETFROM:+0100
TZOFFSETTO:+0200
TZNAME:CEST
DTSTART:20250330T010000
END:DAYLIGHT
BEGIN:STANDARD
TZOFFSETFROM:+0200
TZOFFSETTO:+0100
TZNAME:CET
DTSTART:20251026T010000
END:STANDARD
BEGIN:DAYLIGHT
TZOFFSETFROM:+0100
TZOFFSETTO:+0200
TZNAME:CEST
DTSTART:20260329T010000
END:DAYLIGHT
BEGIN:STANDARD
TZOFFSETFROM:+0200
TZOFFSETTO:+0100
TZNAME:CET
DTSTART:20261025T010000
END:STANDARD
END:VTIMEZONE
BEGIN:VEVENT
DTSTART;VALUE=DATE:20251103
DTEND;VALUE=DATE:20251108
DTSTAMP:20260420T172032
CREATED:20250805T050917Z
LAST-MODIFIED:20250815T075549Z
UID:779-1762128000-1762559999@circsyst.eu
SUMMARY:Circular Week 3-7 of November 2025\, Warsaw (Poland)
DESCRIPTION:CIRCULAR WEEK  will take place between  3-7 of November 2025. Participants can join events dedicated to Circular Economy transformation and sustainable production and consumption all over Europe. Each day of the Circular Week will be dedicated to different topic regrading Circular Economy as sustainable packaging\, construction\, food and bioeconomy\, textile\, circular design\, circular business model etc. Around this topics various events will take place: workshops\, seminars\, networking meetings. Circular Week will give the unique chance of  business matchmaking and networking for both Polish and international participants. \nThe focal point of the circular week is European Sustainability Congress 2025. One of the biggest and most prestigious conference in Poland regarding circular economy topic. Event is targeted to public administration\, local municipalities\, companies\, CSR\, sustainable managers\, local administration\, start-ups\, media. \nThe event is organised by Institute of Innovation and Responsible Development and Polish Circular Hotspot. \nMore information and registration: \nCircular Week 2025 | EVENTS \n 
URL:https://circsyst.eu/event/circular-week-3-7-of-november-2025-warsaw-poland/
CATEGORIES:Circular Economy Events in Europe
ATTACH;FMTTYPE=image/png:https://circsyst.eu/wp-content/uploads/2025/08/kepernyokep-2025-08-05-070439-scaled.png
END:VEVENT
BEGIN:VEVENT
DTSTART;VALUE=DATE:20251104
DTEND;VALUE=DATE:20251108
DTSTAMP:20260420T172032
CREATED:20250110T074932Z
LAST-MODIFIED:20260128T221532Z
UID:364-1762214400-1762559999@circsyst.eu
SUMMARY:ECOMONDO - The Green Technology Expo
DESCRIPTION:Ecomondo is an important event in the field of green and circular economy\, where industrial groups\, stakeholders\, policy makers\, opinion leaders\, local authorities\, research bodies and institutions can meet and discuss with each other about the main stategies\, which leads to the development of EU environmental policy.
URL:https://circsyst.eu/event/ecomondo-the-green-technology-expo/
CATEGORIES:Circular Economy Events in Europe
ATTACH;FMTTYPE=image/png:https://circsyst.eu/wp-content/uploads/2025/01/logo_eco24.png
END:VEVENT
BEGIN:VEVENT
DTSTART;TZID=Europe/Budapest:20251105T083000
DTEND;TZID=Europe/Budapest:20251105T130000
DTSTAMP:20260420T172032
CREATED:20251012T221753Z
LAST-MODIFIED:20251012T223608Z
UID:861-1762331400-1762347600@circsyst.eu
SUMMARY:Biowaste replication workshop and study visit
DESCRIPTION:As CircSyst develops and tests nine holistic circular models\, a key aspect of these solutions is ensuring their replicability potential. To support this goal\, CircSyst will hold a series of replication workshops and study visits\, one per value chain\, designed to foster peer learning\, exchange experiences\, and promote the transfer of circular systemic solutions (CSS) across regions and value chains. \nThe first of these events will take place on 5–6 November 2025 in Lahti\, Finland\, focusing on biowaste solutions. It will bring together project partners\, external stakeholders\, and members of the Community of Practice (CoP) to explore how lessons from CircSyst’s Finnish and Spanish demonstrators can inspire replication in other contexts. Participants will gain practical insights into circular biowaste management\, discuss enabling conditions for replication\, and connect with experts and innovators from across Europe. \nHosted by our Finnish partners\, LAB University of Applied Sciences and the University of Helsinki\, and co-organised by EURADA\, the workshop will be held in hybrid format (in-person and online)\, followed by exclusive on-site study visits for in-person attendees. \nHighlights from the programme include: \n5 November  \n\nThe biowaste replication workshop (8:30 to 12:00 EET / hybrid) at Lahti Science Park\, which will introduce the project’s biowaste demonstrators\, feature CoP interventions\, highlight success stories\, and foster interactive discussions on replication challenges\, among others.\n\n\nA networking lunch (12:00 to 13:00 EET).\n\n\nA guided tour of LAB Laboratories (13:00 to 13:45 EET) in the LAB Campus.\n\n6 November  \n\nSite visiting of the Kujala Waste Center (13:00 to 15:00 EET)\, with transport provided by the consortium.\nThe visit of the DEMO 5 Pilot Plant (15:00 to 16:00 EET)\, gaining first-hand insight into how circular biowaste solutions are being implemented in the Päijät-Häme region.\n\n  \nCheck the tentative workshop agenda here. Don’t miss this opportunity to connect research with practice and explore replicable good practices in real-life settings. \n  \nYou may register your attendance by filling out this form by 22 October 2025. We look forward to welcoming you in Lahti!
URL:https://circsyst.eu/event/biowaste-replication-workshop-and-study-visit/
LOCATION:Lahti Science Park\, Niemenkatu 73\, Lahti
CATEGORIES:CircSyst Project Events
ATTACH;FMTTYPE=image/png:https://circsyst.eu/wp-content/uploads/2025/10/1st-ws-and-study-visit-banner-hybrid.png
END:VEVENT
END:VCALENDAR