BEGIN:VCALENDAR
VERSION:2.0
PRODID:-//Circular Systemic Solutions - ECPv6.15.14//NONSGML v1.0//EN
CALSCALE:GREGORIAN
METHOD:PUBLISH
X-WR-CALNAME:Circular Systemic Solutions
X-ORIGINAL-URL:https://circsyst.eu
X-WR-CALDESC:Events for Circular Systemic Solutions
REFRESH-INTERVAL;VALUE=DURATION:PT1H
X-Robots-Tag:noindex
X-PUBLISHED-TTL:PT1H
BEGIN:VTIMEZONE
TZID:Europe/Budapest
BEGIN:DAYLIGHT
TZOFFSETFROM:+0100
TZOFFSETTO:+0200
TZNAME:CEST
DTSTART:20240331T010000
END:DAYLIGHT
BEGIN:STANDARD
TZOFFSETFROM:+0200
TZOFFSETTO:+0100
TZNAME:CET
DTSTART:20241027T010000
END:STANDARD
BEGIN:DAYLIGHT
TZOFFSETFROM:+0100
TZOFFSETTO:+0200
TZNAME:CEST
DTSTART:20250330T010000
END:DAYLIGHT
BEGIN:STANDARD
TZOFFSETFROM:+0200
TZOFFSETTO:+0100
TZNAME:CET
DTSTART:20251026T010000
END:STANDARD
BEGIN:DAYLIGHT
TZOFFSETFROM:+0100
TZOFFSETTO:+0200
TZNAME:CEST
DTSTART:20260329T010000
END:DAYLIGHT
BEGIN:STANDARD
TZOFFSETFROM:+0200
TZOFFSETTO:+0100
TZNAME:CET
DTSTART:20261025T010000
END:STANDARD
END:VTIMEZONE
BEGIN:VEVENT
DTSTART;TZID=Europe/Budapest:20250528T100000
DTEND;TZID=Europe/Budapest:20250528T130000
DTSTAMP:20260421T002049
CREATED:20250512T203016Z
LAST-MODIFIED:20250815T064035Z
UID:582-1748426400-1748437200@circsyst.eu
SUMMARY:Workshop on Eco-friendly Packaging
DESCRIPTION:Preparing for the Future: Mandatory Changes\, New Opportunities – Are You Ready? \nFrom 2026\, new EU packaging regulations will fundamentally reshape the operational framework of the food industry and packaging technology. The reduction of non-recyclable plastics and the shift towards bio-based and recyclable materials will not only be a requirement but a matter of survival and competitiveness in the market. \nThe Hungarian pilot project implemented under the CircSyst initiative — which will be presented in detail at the event — offers pioneering\, tangible solutions to packaging challenges. The project focuses on eco-design-based developments\, testing innovative and sustainable materials\, and examining their industrial-scale applicability\, with the active involvement of 10 food industry companies. \nWe hereby kindly invite you to our workshop on 28 May 2025\, where industry players\, researchers\, and decision-makers will collaborate to turn packaging from an obstacle into an opportunity and advantage on the path toward a circular economy. \nJoin the discussion\, discover the latest developments\, and become an active shaper of the future of the food and packaging industries! \nWorkshop Agenda:\nCircSyst Project Workshop on Eco-friendly Packaging \nDate: Wednesday\, 28 May 2025\, 10:00 – 13:00Venue: MGFÜ – 2nd floor Main Conference Room\, 70-72 Rákóczi út\, 1074 Budapest \n\n\n09:30 – 10:00 – Arrival and registration \n\n\n10:00 – 10:10 – Welcome speech \n\n\n10:10 – 10:20 – Introduction to the CircSyst project and workshop objectives \n\n\n10:20 – 10:30 – Presentation of the Hungarian demo project: goals\, expected results\, future plans \n\n\n10:30 – 11:00 – Session I: “Vision” – How do we see the future of packaging in our region from a circular economy perspective? \n\n\n11:00 – 11:30 – Session II: “Back to the Future” – What steps are needed to achieve this vision? \n\n\n11:30 – 12:00 – Closing session: “Building Blocks of the Future” – Concrete actions towards sustainable packaging and a circular economy \n\n\n12:00 – 12:30 – Summary and conclusions \n\n\n12:30 – 13:30 – Sandwich lunch & networking \n\n\nThe event will provide an excellent opportunity for professionals from different fields to jointly explore future pathways for integrating sustainable solutions. \nParticipation is free of charge\, but registration is required.Please confirm your attendance by completing the registration form available at the following link by 20 May 2025: \nRegistration \nWe look forward to welcoming you and working together on the future of packaging.
URL:https://circsyst.eu/event/workshop-on-eco-friendly-packaging/
LOCATION:MGFÜ\, 70-72 Rákóczi út\, Budapest\, 1074\, Hungary
CATEGORIES:CircSyst Project Events
ATTACH;FMTTYPE=image/jpeg:https://circsyst.eu/wp-content/uploads/2025/05/nevtelen-webhely1.jpg
END:VEVENT
END:VCALENDAR